BEGIN:VCALENDAR
VERSION:2.0
PRODID:-//Pups Without Borders - ECPv6.15.20//NONSGML v1.0//EN
CALSCALE:GREGORIAN
METHOD:PUBLISH
X-WR-CALNAME:Pups Without Borders
X-ORIGINAL-URL:https://pupswithoutborders.org
X-WR-CALDESC:Events for Pups Without Borders
REFRESH-INTERVAL;VALUE=DURATION:PT1H
X-Robots-Tag:noindex
X-PUBLISHED-TTL:PT1H
BEGIN:VTIMEZONE
TZID:America/Los_Angeles
BEGIN:DAYLIGHT
TZOFFSETFROM:-0800
TZOFFSETTO:-0700
TZNAME:PDT
DTSTART:20250309T100000
END:DAYLIGHT
BEGIN:STANDARD
TZOFFSETFROM:-0700
TZOFFSETTO:-0800
TZNAME:PST
DTSTART:20251102T090000
END:STANDARD
BEGIN:DAYLIGHT
TZOFFSETFROM:-0800
TZOFFSETTO:-0700
TZNAME:PDT
DTSTART:20260308T100000
END:DAYLIGHT
BEGIN:STANDARD
TZOFFSETFROM:-0700
TZOFFSETTO:-0800
TZNAME:PST
DTSTART:20261101T090000
END:STANDARD
BEGIN:DAYLIGHT
TZOFFSETFROM:-0800
TZOFFSETTO:-0700
TZNAME:PDT
DTSTART:20270314T100000
END:DAYLIGHT
BEGIN:STANDARD
TZOFFSETFROM:-0700
TZOFFSETTO:-0800
TZNAME:PST
DTSTART:20271107T090000
END:STANDARD
END:VTIMEZONE
BEGIN:VEVENT
DTSTART;TZID=America/Los_Angeles:20260307T110000
DTEND;TZID=America/Los_Angeles:20260307T140000
DTSTAMP:20260421T010719
CREATED:20250917T022431Z
LAST-MODIFIED:20260217T070451Z
UID:10000043-1772881200-1772892000@pupswithoutborders.org
SUMMARY:Tailwaggers and Pups Without Borders adoption event
DESCRIPTION:Since opening their doors in 2003\, Tailwaggers has endeavored to provide the highest quality food and pet supplies\, always making sure to source products guaranteed to make sure your doggo is as happy as possible! Now\, Tailwaggers is partnering with Pups Without Borders for an adoption event like no other! Join us at the Tailwaggers Larchmont Village location for a day of puppies and sunshine! We hope to see you there.
URL:https://pupswithoutborders.org/event/tailwaggers-and-pups-without-borders-adoption-event/
LOCATION:Tailwaggers Pet Food & Supplies\, 147 N Larchmont Villiage\, Los Angeles\, 90004\, United States
ATTACH;FMTTYPE=image/png:https://pupswithoutborders.org/wp-content/uploads/2025/09/tailwaggers-march-7th-2026.png
END:VEVENT
BEGIN:VEVENT
DTSTART;TZID=America/Los_Angeles:20260318T070000
DTEND;TZID=America/Los_Angeles:20260318T210000
DTSTAMP:20260421T010719
CREATED:20250917T023748Z
LAST-MODIFIED:20260312T201015Z
UID:10000044-1773817200-1773867600@pupswithoutborders.org
SUMMARY:Bingo Night at Hamburger Mary's
DESCRIPTION:Get ready for a paws-itively fabulous night! On Wednesday\, March 18th\, 2026\, from 7-9 PM\, Pups Without Borders is bringing adorable\, adoptable dogs to Hamburger Mary’s Bingo Night. Stop by before the numbers start rolling to meet cuddly pups looking for their forever homes\, learn about fostering\, and show your support for rescue. Whether you’re playing for a bingo win or just here for the puppy love\, this one-hour pop-up is the perfect way to mix laughs\, community\, and canine cuteness. \nReservations are recommended! You can call (323) 654-3800 or go to Hamburger Mary’s WeHo Yelp page to do so. We do ask for a $20 donation per person to play\, but rest assured\, it’s worth it! Your donation helps us save rescue dogs and gets you a chance to win amazing prizes!
URL:https://pupswithoutborders.org/event/bingo-night-at-hamburger-marys/
LOCATION:Hamburger Mary’s\, 8288 Santa Monica Blvd\, Los Angeles\, 90046\, United States
ATTACH;FMTTYPE=image/png:https://pupswithoutborders.org/wp-content/uploads/2025/09/unnamed.png
END:VEVENT
END:VCALENDAR